BEGIN:VCALENDAR
VERSION:2.0
PRODID:-//Arboraison - ECPv6.15.11//NONSGML v1.0//EN
CALSCALE:GREGORIAN
METHOD:PUBLISH
X-ORIGINAL-URL:https://www.arboraison.fr
X-WR-CALDESC:Évènements pour Arboraison
REFRESH-INTERVAL;VALUE=DURATION:PT1H
X-Robots-Tag:noindex
X-PUBLISHED-TTL:PT1H
BEGIN:VTIMEZONE
TZID:Europe/Paris
BEGIN:DAYLIGHT
TZOFFSETFROM:+0100
TZOFFSETTO:+0200
TZNAME:CEST
DTSTART:20220327T010000
END:DAYLIGHT
BEGIN:STANDARD
TZOFFSETFROM:+0200
TZOFFSETTO:+0100
TZNAME:CET
DTSTART:20221030T010000
END:STANDARD
BEGIN:DAYLIGHT
TZOFFSETFROM:+0100
TZOFFSETTO:+0200
TZNAME:CEST
DTSTART:20230326T010000
END:DAYLIGHT
BEGIN:STANDARD
TZOFFSETFROM:+0200
TZOFFSETTO:+0100
TZNAME:CET
DTSTART:20231029T010000
END:STANDARD
BEGIN:DAYLIGHT
TZOFFSETFROM:+0100
TZOFFSETTO:+0200
TZNAME:CEST
DTSTART:20240331T010000
END:DAYLIGHT
BEGIN:STANDARD
TZOFFSETFROM:+0200
TZOFFSETTO:+0100
TZNAME:CET
DTSTART:20241027T010000
END:STANDARD
END:VTIMEZONE
BEGIN:VEVENT
DTSTART;TZID=Europe/Paris:20230627T173000
DTEND;TZID=Europe/Paris:20230627T190000
DTSTAMP:20260420T075616
CREATED:20230627T163035Z
LAST-MODIFIED:20230707T145906Z
UID:576-1687887000-1687892400@www.arboraison.fr
SUMMARY:Plantation des consoudes
DESCRIPTION:Nous avons réalisé des boutures de racine des consoudes\, plantes utiles comme paillage et qui permet la remontée des éléments minéraux du sol pour les fournir aux autres plantes ! Il est temps de les implanter sur le terrain près des zones humides.
URL:https://www.arboraison.fr/event/plantation-des-consoudes/
LOCATION:Le terrain\, Arboraison\, Briare\, 45250\, France
CATEGORIES:Coup de main
END:VEVENT
END:VCALENDAR