BEGIN:VCALENDAR
VERSION:2.0
PRODID:-//Arboraison - ECPv6.15.11//NONSGML v1.0//EN
CALSCALE:GREGORIAN
METHOD:PUBLISH
X-WR-CALNAME:Arboraison
X-ORIGINAL-URL:https://www.arboraison.fr
X-WR-CALDESC:Évènements pour Arboraison
REFRESH-INTERVAL;VALUE=DURATION:PT1H
X-Robots-Tag:noindex
X-PUBLISHED-TTL:PT1H
BEGIN:VTIMEZONE
TZID:Europe/Paris
BEGIN:DAYLIGHT
TZOFFSETFROM:+0100
TZOFFSETTO:+0200
TZNAME:CEST
DTSTART:20220327T010000
END:DAYLIGHT
BEGIN:STANDARD
TZOFFSETFROM:+0200
TZOFFSETTO:+0100
TZNAME:CET
DTSTART:20221030T010000
END:STANDARD
BEGIN:DAYLIGHT
TZOFFSETFROM:+0100
TZOFFSETTO:+0200
TZNAME:CEST
DTSTART:20230326T010000
END:DAYLIGHT
BEGIN:STANDARD
TZOFFSETFROM:+0200
TZOFFSETTO:+0100
TZNAME:CET
DTSTART:20231029T010000
END:STANDARD
BEGIN:DAYLIGHT
TZOFFSETFROM:+0100
TZOFFSETTO:+0200
TZNAME:CEST
DTSTART:20240331T010000
END:DAYLIGHT
BEGIN:STANDARD
TZOFFSETFROM:+0200
TZOFFSETTO:+0100
TZNAME:CET
DTSTART:20241027T010000
END:STANDARD
END:VTIMEZONE
BEGIN:VEVENT
DTSTART;TZID=Europe/Paris:20230324T080000
DTEND;TZID=Europe/Paris:20230326T170000
DTSTAMP:20260420T144133
CREATED:20230302T101743Z
LAST-MODIFIED:20230329T095218Z
UID:225-1679644800-1679850000@www.arboraison.fr
SUMMARY:Coup de main - Les chemins
DESCRIPTION:Création de chemins avec la collecte de copeaux et entretien des chemins en place.
URL:https://www.arboraison.fr/event/chemins/
LOCATION:Le terrain\, Arboraison\, Briare\, 45250\, France
CATEGORIES:Coup de main
ATTACH;FMTTYPE=image/png:https://www.arboraison.fr/wp-content/uploads/2023/03/Capture-decran-2023-03-04-a-4.24.32-PM.png
END:VEVENT
END:VCALENDAR