BEGIN:VCALENDAR
VERSION:2.0
PRODID:-//Arboraison - ECPv6.15.11//NONSGML v1.0//EN
CALSCALE:GREGORIAN
METHOD:PUBLISH
X-WR-CALNAME:Arboraison
X-ORIGINAL-URL:https://www.arboraison.fr
X-WR-CALDESC:Évènements pour Arboraison
REFRESH-INTERVAL;VALUE=DURATION:PT1H
X-Robots-Tag:noindex
X-PUBLISHED-TTL:PT1H
BEGIN:VTIMEZONE
TZID:Europe/Paris
BEGIN:DAYLIGHT
TZOFFSETFROM:+0100
TZOFFSETTO:+0200
TZNAME:CEST
DTSTART:20220327T010000
END:DAYLIGHT
BEGIN:STANDARD
TZOFFSETFROM:+0200
TZOFFSETTO:+0100
TZNAME:CET
DTSTART:20221030T010000
END:STANDARD
BEGIN:DAYLIGHT
TZOFFSETFROM:+0100
TZOFFSETTO:+0200
TZNAME:CEST
DTSTART:20230326T010000
END:DAYLIGHT
BEGIN:STANDARD
TZOFFSETFROM:+0200
TZOFFSETTO:+0100
TZNAME:CET
DTSTART:20231029T010000
END:STANDARD
BEGIN:DAYLIGHT
TZOFFSETFROM:+0100
TZOFFSETTO:+0200
TZNAME:CEST
DTSTART:20240331T010000
END:DAYLIGHT
BEGIN:STANDARD
TZOFFSETFROM:+0200
TZOFFSETTO:+0100
TZNAME:CET
DTSTART:20241027T010000
END:STANDARD
END:VTIMEZONE
BEGIN:VEVENT
DTSTART;VALUE=DATE:20230429
DTEND;VALUE=DATE:20230430
DTSTAMP:20260420T125801
CREATED:20230404T071427Z
LAST-MODIFIED:20230424T090848Z
UID:556-1682726400-1682812799@www.arboraison.fr
SUMMARY:Spirale aromatique en émaux
DESCRIPTION:Nous allons continuer à élever le feuilletage en émaux de la spirale aromatique. Cela se fera en parallèle avec la mise en terre de deux cuves à eau dont la terre va être amenée dans la spirale. \nMatériel nécessaire : gants. \nMercredi 26 avril : collecte des émaux à la montagne de Briare\net organisation des échelons pour monter le mur feuilleté. \nSamedi : 29 avril : dépose des émaux en spirale et cuves en terre.
URL:https://www.arboraison.fr/event/spirale-aromatique-en-emaux/
LOCATION:Le terrain\, Arboraison\, Briare\, 45250\, France
CATEGORIES:Coup de main
END:VEVENT
END:VCALENDAR