BEGIN:VCALENDAR
VERSION:2.0
PRODID:-//Arboraison - ECPv6.15.11//NONSGML v1.0//EN
CALSCALE:GREGORIAN
METHOD:PUBLISH
X-ORIGINAL-URL:https://www.arboraison.fr
X-WR-CALDESC:Évènements pour Arboraison
REFRESH-INTERVAL;VALUE=DURATION:PT1H
X-Robots-Tag:noindex
X-PUBLISHED-TTL:PT1H
BEGIN:VTIMEZONE
TZID:Europe/Paris
BEGIN:DAYLIGHT
TZOFFSETFROM:+0100
TZOFFSETTO:+0200
TZNAME:CEST
DTSTART:20220327T010000
END:DAYLIGHT
BEGIN:STANDARD
TZOFFSETFROM:+0200
TZOFFSETTO:+0100
TZNAME:CET
DTSTART:20221030T010000
END:STANDARD
BEGIN:DAYLIGHT
TZOFFSETFROM:+0100
TZOFFSETTO:+0200
TZNAME:CEST
DTSTART:20230326T010000
END:DAYLIGHT
BEGIN:STANDARD
TZOFFSETFROM:+0200
TZOFFSETTO:+0100
TZNAME:CET
DTSTART:20231029T010000
END:STANDARD
BEGIN:DAYLIGHT
TZOFFSETFROM:+0100
TZOFFSETTO:+0200
TZNAME:CEST
DTSTART:20240331T010000
END:DAYLIGHT
BEGIN:STANDARD
TZOFFSETFROM:+0200
TZOFFSETTO:+0100
TZNAME:CET
DTSTART:20241027T010000
END:STANDARD
END:VTIMEZONE
BEGIN:VEVENT
DTSTART;TZID=Europe/Paris:20231209T093000
DTEND;TZID=Europe/Paris:20231209T130000
DTSTAMP:20260420T001613
CREATED:20240103T091023Z
LAST-MODIFIED:20240103T091231Z
UID:620-1702114200-1702126800@www.arboraison.fr
SUMMARY:Nouveaux chemins
DESCRIPTION:Brouettes\, pelles et big bag sont de retour pour donner à manger au sol !\nMatinée consacrée à de nouveaux tracés vers des plantations\, comme le petit figuier par exemple\, ou bien pour rejoindre d’autres chemins ou bien encore mener vers de nouveaux espaces qui seront plantés/aménagés prochainement. \nObjectif : finir d’étaler (chemin et paillage) avant les nouvelles coupes de la mairie nos tas de broyat !
URL:https://www.arboraison.fr/event/nouveaux-chemins/
LOCATION:Le terrain\, Arboraison\, Briare\, 45250\, France
CATEGORIES:Coup de main
END:VEVENT
END:VCALENDAR